BEGIN:VCALENDAR
VERSION:2.0
PRODID:-//Historical Society of Ogden Dunes - ECPv6.15.11//NONSGML v1.0//EN
CALSCALE:GREGORIAN
METHOD:PUBLISH
X-ORIGINAL-URL:https://odhistory.org
X-WR-CALDESC:Events for Historical Society of Ogden Dunes
REFRESH-INTERVAL;VALUE=DURATION:PT1H
X-Robots-Tag:noindex
X-PUBLISHED-TTL:PT1H
BEGIN:VTIMEZONE
TZID:America/Chicago
BEGIN:DAYLIGHT
TZOFFSETFROM:-0600
TZOFFSETTO:-0500
TZNAME:CDT
DTSTART:20180311T080000
END:DAYLIGHT
BEGIN:STANDARD
TZOFFSETFROM:-0500
TZOFFSETTO:-0600
TZNAME:CST
DTSTART:20181104T070000
END:STANDARD
BEGIN:DAYLIGHT
TZOFFSETFROM:-0600
TZOFFSETTO:-0500
TZNAME:CDT
DTSTART:20190310T080000
END:DAYLIGHT
BEGIN:STANDARD
TZOFFSETFROM:-0500
TZOFFSETTO:-0600
TZNAME:CST
DTSTART:20191103T070000
END:STANDARD
BEGIN:DAYLIGHT
TZOFFSETFROM:-0600
TZOFFSETTO:-0500
TZNAME:CDT
DTSTART:20200308T080000
END:DAYLIGHT
BEGIN:STANDARD
TZOFFSETFROM:-0500
TZOFFSETTO:-0600
TZNAME:CST
DTSTART:20201101T070000
END:STANDARD
END:VTIMEZONE
BEGIN:VEVENT
DTSTART;TZID=America/Chicago:20191020T140000
DTEND;TZID=America/Chicago:20191020T170000
DTSTAMP:20260424T222231
CREATED:20190927T165315Z
LAST-MODIFIED:20190927T165315Z
UID:3198-1571580000-1571590800@odhistory.org
SUMMARY:Open House
DESCRIPTION:At 4:00 p.m. the Historical Society will present a program by Trent Pendley\, author of historical  fiction\, set in Porter County.
URL:https://odhistory.org/event/open-house-2/
LOCATION:Hour Glass Museum\, 8 Lupine Lane\, Ogden Dunes\, IN\, 46368\, United States
ORGANIZER;CN="Historical Society of Ogden Dunes":MAILTO:cafried918@gmail.com
END:VEVENT
BEGIN:VEVENT
DTSTART;TZID=America/Chicago:20191020T160000
DTEND;TZID=America/Chicago:20191020T170000
DTSTAMP:20260424T222231
CREATED:20190927T170012Z
LAST-MODIFIED:20190927T170012Z
UID:3204-1571587200-1571590800@odhistory.org
SUMMARY:"Toy in the Closet" Historical Fiction by Trent Pendley
DESCRIPTION:Trent Pendley\, a well known author of local color fiction\, will share his experiences writing about Porter County.    The program will begin at 4:00 p.m. and be followed by a reception.  All are invited.
URL:https://odhistory.org/event/toy-in-the-closet-historical-fiction-by-trent-pendley/
LOCATION:Hour Glass Museum\, 8 Lupine Lane\, Ogden Dunes\, IN\, 46368\, United States
END:VEVENT
END:VCALENDAR