BEGIN:VCALENDAR
VERSION:2.0
PRODID:-//Historical Society of Ogden Dunes - ECPv6.15.11//NONSGML v1.0//EN
CALSCALE:GREGORIAN
METHOD:PUBLISH
X-WR-CALNAME:Historical Society of Ogden Dunes
X-ORIGINAL-URL:https://odhistory.org
X-WR-CALDESC:Events for Historical Society of Ogden Dunes
REFRESH-INTERVAL;VALUE=DURATION:PT1H
X-Robots-Tag:noindex
X-PUBLISHED-TTL:PT1H
BEGIN:VTIMEZONE
TZID:America/Chicago
BEGIN:DAYLIGHT
TZOFFSETFROM:-0600
TZOFFSETTO:-0500
TZNAME:CDT
DTSTART:20190310T080000
END:DAYLIGHT
BEGIN:STANDARD
TZOFFSETFROM:-0500
TZOFFSETTO:-0600
TZNAME:CST
DTSTART:20191103T070000
END:STANDARD
BEGIN:DAYLIGHT
TZOFFSETFROM:-0600
TZOFFSETTO:-0500
TZNAME:CDT
DTSTART:20200308T080000
END:DAYLIGHT
BEGIN:STANDARD
TZOFFSETFROM:-0500
TZOFFSETTO:-0600
TZNAME:CST
DTSTART:20201101T070000
END:STANDARD
BEGIN:DAYLIGHT
TZOFFSETFROM:-0600
TZOFFSETTO:-0500
TZNAME:CDT
DTSTART:20210314T080000
END:DAYLIGHT
BEGIN:STANDARD
TZOFFSETFROM:-0500
TZOFFSETTO:-0600
TZNAME:CST
DTSTART:20211107T070000
END:STANDARD
END:VTIMEZONE
BEGIN:VEVENT
DTSTART;TZID=America/Chicago:20201115T153000
DTEND;TZID=America/Chicago:20201115T170000
DTSTAMP:20260424T053022
CREATED:20201014T210216Z
LAST-MODIFIED:20201026T141421Z
UID:3563-1605454200-1605459600@odhistory.org
SUMMARY:The Third battle to Save the Beach: the 1990s
DESCRIPTION: The Third Battle to Save the Beach: the 1990s  \nPart II of Dick Meister’s presentation.  \nSunday\, November 15\, 2020  \nat the Ogden Dunes Community Hall (firehouse)  \nLimited Seating – Reservations Only  \nDoors open at 3p\, program starts at 330p  \nTo make your reservations click on the next line –  \nReserve Your Spot  \nwe will practice social distancing  \nyou must wear a face mask to protect yourself and others.  \n  \n 
URL:https://odhistory.org/event/the-third-battle-to-save-the-beach-the-1990s/
LOCATION:Community/Fire Hall\, Hillcrest Road\, Ogden Dunes\, IN\, 46368\, United States
ATTACH;FMTTYPE=image/jpeg:https://odhistory.org/wp-content/uploads/2020/10/Erosion-2020-Oct-2-Shore-Drive.jpg
END:VEVENT
END:VCALENDAR