BEGIN:VCALENDAR
VERSION:2.0
PRODID:-//Historical Society of Ogden Dunes - ECPv6.15.11//NONSGML v1.0//EN
CALSCALE:GREGORIAN
METHOD:PUBLISH
X-WR-CALNAME:Historical Society of Ogden Dunes
X-ORIGINAL-URL:https://odhistory.org
X-WR-CALDESC:Events for Historical Society of Ogden Dunes
REFRESH-INTERVAL;VALUE=DURATION:PT1H
X-Robots-Tag:noindex
X-PUBLISHED-TTL:PT1H
BEGIN:VTIMEZONE
TZID:UTC
BEGIN:STANDARD
TZOFFSETFROM:+0000
TZOFFSETTO:+0000
TZNAME:UTC
DTSTART:20210101T000000
END:STANDARD
END:VTIMEZONE
BEGIN:VEVENT
DTSTART;TZID=UTC:20220424T160000
DTEND;TZID=UTC:20220424T170000
DTSTAMP:20260423T014958
CREATED:20220420T215019Z
LAST-MODIFIED:20220420T215019Z
UID:4052-1650816000-1650819600@odhistory.org
SUMMARY:History of the Boat Club at the end of Boat Club Road
DESCRIPTION:
URL:https://odhistory.org/event/history-of-the-boat-club-at-the-end-of-boat-club-road/
LOCATION:Hour Glass Museum\, 8 Lupine Lane\, Ogden Dunes\, IN\, 46368\, United States
END:VEVENT
END:VCALENDAR