BEGIN:VCALENDAR
VERSION:2.0
PRODID:-//Historical Society of Ogden Dunes - ECPv6.15.11//NONSGML v1.0//EN
CALSCALE:GREGORIAN
METHOD:PUBLISH
X-WR-CALNAME:Historical Society of Ogden Dunes
X-ORIGINAL-URL:https://odhistory.org
X-WR-CALDESC:Events for Historical Society of Ogden Dunes
REFRESH-INTERVAL;VALUE=DURATION:PT1H
X-Robots-Tag:noindex
X-PUBLISHED-TTL:PT1H
BEGIN:VTIMEZONE
TZID:America/Chicago
BEGIN:DAYLIGHT
TZOFFSETFROM:-0600
TZOFFSETTO:-0500
TZNAME:CDT
DTSTART:20180311T080000
END:DAYLIGHT
BEGIN:STANDARD
TZOFFSETFROM:-0500
TZOFFSETTO:-0600
TZNAME:CST
DTSTART:20181104T070000
END:STANDARD
BEGIN:DAYLIGHT
TZOFFSETFROM:-0600
TZOFFSETTO:-0500
TZNAME:CDT
DTSTART:20190310T080000
END:DAYLIGHT
BEGIN:STANDARD
TZOFFSETFROM:-0500
TZOFFSETTO:-0600
TZNAME:CST
DTSTART:20191103T070000
END:STANDARD
BEGIN:DAYLIGHT
TZOFFSETFROM:-0600
TZOFFSETTO:-0500
TZNAME:CDT
DTSTART:20200308T080000
END:DAYLIGHT
BEGIN:STANDARD
TZOFFSETFROM:-0500
TZOFFSETTO:-0600
TZNAME:CST
DTSTART:20201101T070000
END:STANDARD
END:VTIMEZONE
BEGIN:VEVENT
DTSTART;TZID=America/Chicago:20191117T140000
DTEND;TZID=America/Chicago:20191117T170000
DTSTAMP:20260424T194130
CREATED:20190927T164906Z
LAST-MODIFIED:20190927T164906Z
UID:3201-1573999200-1574010000@odhistory.org
SUMMARY:Open House
DESCRIPTION:
URL:https://odhistory.org/event/open-house/
LOCATION:Hour Glass Museum\, 8 Lupine Lane\, Ogden Dunes\, IN\, 46368\, United States
END:VEVENT
BEGIN:VEVENT
DTSTART;TZID=America/Chicago:20191117T160000
DTEND;TZID=America/Chicago:20191117T173000
DTSTAMP:20260424T194130
CREATED:20190927T185732Z
LAST-MODIFIED:20190928T192248Z
UID:3210-1574006400-1574011800@odhistory.org
SUMMARY:Octave Chanute & Northwest Indiana
DESCRIPTION:Octave Chanute\, pioneer in aviation\, experimented with his first flights in the dunes near the Miller lagoon.  P. J. Nelson\, a film documentarian\, will discuss his new film on Octave Chanute and show a trailer of the upcoming film.  He will be joined by Simine Short\, author of new biography of Chanute\, From Locomotive to Aeromotive: Octave Chanute and the Transportation Revolution.  Nelson has also produced the recent documentary on the South Shore\,  “Riding the Rails”. \n 
URL:https://odhistory.org/event/octave-chanute-northwest-indiana/
LOCATION:Hour Glass Museum\, 8 Lupine Lane\, Ogden Dunes\, IN\, 46368\, United States
ORGANIZER;CN="Historical Society of Ogden Dunes":MAILTO:cafried918@gmail.com
END:VEVENT
END:VCALENDAR