BEGIN:VCALENDAR
VERSION:2.0
PRODID:-//Historical Society of Ogden Dunes - ECPv6.15.11//NONSGML v1.0//EN
CALSCALE:GREGORIAN
METHOD:PUBLISH
X-ORIGINAL-URL:https://odhistory.org
X-WR-CALDESC:Events for Historical Society of Ogden Dunes
REFRESH-INTERVAL;VALUE=DURATION:PT1H
X-Robots-Tag:noindex
X-PUBLISHED-TTL:PT1H
BEGIN:VTIMEZONE
TZID:America/Chicago
BEGIN:DAYLIGHT
TZOFFSETFROM:-0600
TZOFFSETTO:-0500
TZNAME:CDT
DTSTART:20200308T080000
END:DAYLIGHT
BEGIN:STANDARD
TZOFFSETFROM:-0500
TZOFFSETTO:-0600
TZNAME:CST
DTSTART:20201101T070000
END:STANDARD
BEGIN:DAYLIGHT
TZOFFSETFROM:-0600
TZOFFSETTO:-0500
TZNAME:CDT
DTSTART:20210314T080000
END:DAYLIGHT
BEGIN:STANDARD
TZOFFSETFROM:-0500
TZOFFSETTO:-0600
TZNAME:CST
DTSTART:20211107T070000
END:STANDARD
BEGIN:DAYLIGHT
TZOFFSETFROM:-0600
TZOFFSETTO:-0500
TZNAME:CDT
DTSTART:20220313T080000
END:DAYLIGHT
BEGIN:STANDARD
TZOFFSETFROM:-0500
TZOFFSETTO:-0600
TZNAME:CST
DTSTART:20221106T070000
END:STANDARD
END:VTIMEZONE
BEGIN:VEVENT
DTSTART;TZID=America/Chicago:20210321T140000
DTEND;TZID=America/Chicago:20210321T153000
DTSTAMP:20260423T221827
CREATED:20210315T183110Z
LAST-MODIFIED:20210315T184245Z
UID:3725-1616335200-1616340600@odhistory.org
SUMMARY:Genealogy Basic\, Sunday March 21\, 2001 online
DESCRIPTION:Coming this Sunday\, March 21st at 2pm CDT.   Emily Austen Duran will take us on a journey to find out how we can learn about our families roots.  This online program is about an hour with a question and answer session after.   \nhttps://depaul.zoom.us/j/97456252454 \nor by phone 312 626-6799 – Meeting ID: 974 5626 2454 \nOn your computer just click on the colored https above or paste it in your browser and you can see the live presentation or phone in to hear it.
URL:https://odhistory.org/event/genealogy-basic-sunday-march-21-2001-online/
LOCATION:IN
END:VEVENT
END:VCALENDAR